BEGIN:VCALENDAR
PRODID:-//AT Content Types//AT Event//EN
VERSION:1.0
BEGIN:VEVENT
DTSTART:20250510T080000Z
DTEND:20250510T130000Z
DCREATED:20250415T100150Z
UID:ATEvent-5ce1f1bc20a5440b9721ba11eda36646
SEQUENCE:0
LAST-MODIFIED:20250415T100252Z
SUMMARY:ELK MERK WAARDIG 2025 4e editie EMWalhalla in Raamdonksveer bij Louwman's Toyota World
DESCRIPTION:voor muurbloempjes en rare exoten\, met parade hiervan\, v
 oor bezoekers en deelnemers GRATIS toegang\, meer info zie site Met de
 elname K&T
LOCATION:www.emwalhalla.nl    www.elkmerkwaardig.nl
PRIORITY:3
TRANSP:0
END:VEVENT
END:VCALENDAR
